Package: scDblFinder Version: 1.20.0 Command: /home/biocbuild/bbs-3.20-bioc/R/bin/R CMD INSTALL scDblFinder StartedAt: 2025-02-03 16:01:54 -0500 (Mon, 03 Feb 2025) EndedAt: 2025-02-03 16:02:38 -0500 (Mon, 03 Feb 2025) EllapsedTime: 44.2 seconds RetCode: 0 Status: OK