Package: scDblFinder
Version: 1.19.1
Command: C:\Users\biocbuild\bbs-3.20-bioc\R\bin\R.exe CMD INSTALL scDblFinder
StartedAt: 2024-07-15 16:10:34 -0400 (Mon, 15 Jul 2024)
EndedAt: 2024-07-15 16:11:26 -0400 (Mon, 15 Jul 2024)
EllapsedTime: 51.9 seconds
RetCode: 0
Status: OK