Package: scDblFinder
Version: 1.20.2
Command: F:\biocbuild\bbs-3.20-bioc\R\bin\R.exe CMD check --no-multiarch --install=check:scDblFinder.install-out.txt --library=F:\biocbuild\bbs-3.20-bioc\R\library --no-vignettes --timings scDblFinder_1.20.2.tar.gz
StartedAt: 2025-02-18 05:34:12 -0500 (Tue, 18 Feb 2025)
EndedAt: 2025-02-18 05:40:58 -0500 (Tue, 18 Feb 2025)
EllapsedTime: 406.0 seconds
RetCode: 0
Status: OK
CheckDir: scDblFinder.Rcheck
Warnings: 0