Package: scDblFinder Version: 1.20.0 Command: F:\biocbuild\bbs-3.20-bioc\R\bin\R.exe CMD INSTALL scDblFinder StartedAt: 2025-02-03 16:40:22 -0500 (Mon, 03 Feb 2025) EndedAt: 2025-02-03 16:41:20 -0500 (Mon, 03 Feb 2025) EllapsedTime: 58.1 seconds RetCode: 0 Status: OK