Package: scDblFinder Version: 1.20.0 Command: /home/biocbuild/R/R/bin/R CMD INSTALL scDblFinder StartedAt: 2025-02-03 21:17:08 -0000 (Mon, 03 Feb 2025) EndedAt: 2025-02-03 21:17:56 -0000 (Mon, 03 Feb 2025) EllapsedTime: 48.9 seconds RetCode: 0 Status: OK