Package: scDesign3 Version: 1.4.0 Command: /Library/Frameworks/R.framework/Resources/bin/R CMD build --keep-empty-dirs --no-resave-data scDesign3 StartedAt: 2025-02-04 07:28:37 -0500 (Tue, 04 Feb 2025) EndedAt: 2025-02-04 07:29:53 -0500 (Tue, 04 Feb 2025) EllapsedTime: 75.8 seconds RetCode: 0 Status: OK PackageFile: scDesign3_1.4.0.tar.gz PackageFileSize: 1005 KiB