Package: scDesign3 Version: 1.4.0 Command: /Library/Frameworks/R.framework/Resources/bin/R CMD check --install=check:scDesign3.install-out.txt --library=/Library/Frameworks/R.framework/Resources/library --no-vignettes --timings scDesign3_1.4.0.tar.gz StartedAt: 2025-02-05 09:03:56 -0500 (Wed, 05 Feb 2025) EndedAt: 2025-02-05 09:06:51 -0500 (Wed, 05 Feb 2025) EllapsedTime: 175.1 seconds RetCode: 0 Status: OK CheckDir: scDesign3.Rcheck Warnings: 0