Package: scDesign3 Version: 1.4.0 Command: /Library/Frameworks/R.framework/Resources/bin/R CMD INSTALL scDesign3 StartedAt: 2025-02-03 17:23:01 -0500 (Mon, 03 Feb 2025) EndedAt: 2025-02-03 17:23:10 -0500 (Mon, 03 Feb 2025) EllapsedTime: 9.2 seconds RetCode: 0 Status: OK