Package: scDesign3 Version: 1.4.0 Command: /Library/Frameworks/R.framework/Resources/bin/R CMD check --install=check:scDesign3.install-out.txt --library=/Library/Frameworks/R.framework/Resources/library --no-vignettes --timings scDesign3_1.4.0.tar.gz StartedAt: 2025-02-04 09:36:12 -0500 (Tue, 04 Feb 2025) EndedAt: 2025-02-04 09:41:42 -0500 (Tue, 04 Feb 2025) EllapsedTime: 330.3 seconds RetCode: 0 Status: OK CheckDir: scDesign3.Rcheck Warnings: 0