##############################################################################
##############################################################################
###
### Running command:
###
###   rm -rf scDesign3.buildbin-libdir && mkdir scDesign3.buildbin-libdir && F:\biocbuild\bbs-3.20-bioc\R\bin\R.exe CMD INSTALL --build --library=scDesign3.buildbin-libdir scDesign3_1.3.0.tar.gz
###
##############################################################################
##############################################################################


* installing *source* package 'scDesign3' ...
** using staged installation
** R
** data
** inst
** byte-compile and prepare package for lazy loading
** help
*** installing help indices
*** copying figures
** building package indices
** installing vignettes
** testing if installed package can be loaded from temporary location
** testing if installed package can be loaded from final location
** testing if installed package keeps a record of temporary installation path
* MD5 sums
packaged installation of 'scDesign3' as scDesign3_1.3.0.zip
* DONE (scDesign3)