Package: scDesign3 Version: 1.4.0 Command: /home/biocbuild/R/R/bin/R CMD build --keep-empty-dirs --no-resave-data scDesign3 StartedAt: 2025-02-04 02:38:40 -0000 (Tue, 04 Feb 2025) EndedAt: 2025-02-04 02:40:29 -0000 (Tue, 04 Feb 2025) EllapsedTime: 109.2 seconds RetCode: 0 Status: OK PackageFile: scDesign3_1.4.0.tar.gz PackageFileSize: 729.2 KiB