Package: scDiagnostics Version: 1.0.0 Command: /Library/Frameworks/R.framework/Resources/bin/R CMD INSTALL scDiagnostics StartedAt: 2025-02-03 15:54:35 -0500 (Mon, 03 Feb 2025) EndedAt: 2025-02-03 15:55:05 -0500 (Mon, 03 Feb 2025) EllapsedTime: 29.8 seconds RetCode: 0 Status: OK