Package: scDiagnostics Version: 1.0.0 Command: /Library/Frameworks/R.framework/Resources/bin/R CMD INSTALL scDiagnostics StartedAt: 2025-02-03 15:40:15 -0500 (Mon, 03 Feb 2025) EndedAt: 2025-02-03 15:41:11 -0500 (Mon, 03 Feb 2025) EllapsedTime: 55.4 seconds RetCode: 0 Status: OK