Package: scDiagnostics Version: 1.0.0 Command: /home/biocbuild/bbs-3.20-bioc/R/bin/R CMD check --install=check:scDiagnostics.install-out.txt --library=/home/biocbuild/bbs-3.20-bioc/R/site-library --timings scDiagnostics_1.0.0.tar.gz StartedAt: 2025-02-04 02:09:53 -0500 (Tue, 04 Feb 2025) EndedAt: 2025-02-04 02:20:05 -0500 (Tue, 04 Feb 2025) EllapsedTime: 612.0 seconds RetCode: 0 Status: OK CheckDir: scDiagnostics.Rcheck Warnings: 0