Package: scDiagnostics Version: 1.0.0 Command: /home/biocbuild/bbs-3.20-bioc/R/bin/R CMD INSTALL scDiagnostics StartedAt: 2025-02-03 15:30:39 -0500 (Mon, 03 Feb 2025) EndedAt: 2025-02-03 15:31:04 -0500 (Mon, 03 Feb 2025) EllapsedTime: 25.0 seconds RetCode: 0 Status: OK