Package: scDiagnostics Version: 1.0.0 Command: chmod a+r scDiagnostics -R && F:\biocbuild\bbs-3.20-bioc\R\bin\R.exe CMD build --keep-empty-dirs --no-resave-data scDiagnostics StartedAt: 2025-02-03 21:54:59 -0500 (Mon, 03 Feb 2025) EndedAt: 2025-02-03 21:59:55 -0500 (Mon, 03 Feb 2025) EllapsedTime: 295.5 seconds RetCode: 0 Status: OK PackageFile: scDiagnostics_1.0.0.tar.gz PackageFileSize: 3.621 MiB