Package: scGPS Version: 1.20.0 Command: rm -rf scGPS.buildbin-libdir && mkdir scGPS.buildbin-libdir && /Users/biocbuild/BBS/utils/build-universal.sh scGPS_1.20.0.tar.gz /Library/Frameworks/R.framework/Resources/bin/R scGPS.buildbin-libdir StartedAt: 2025-02-05 17:40:54 -0500 (Wed, 05 Feb 2025) EndedAt: 2025-02-05 17:41:56 -0500 (Wed, 05 Feb 2025) EllapsedTime: 61.6 seconds RetCode: 0 Status: OK PackageFile: scGPS_1.20.0.tgz PackageFileSize: 2.656 MiB