Package: scGPS
Version: 1.20.0
Command: /Library/Frameworks/R.framework/Resources/bin/R CMD INSTALL scGPS
StartedAt: 2025-02-17 16:22:27 -0500 (Mon, 17 Feb 2025)
EndedAt: 2025-02-17 16:24:19 -0500 (Mon, 17 Feb 2025)
EllapsedTime: 112.8 seconds
RetCode: 0
Status: OK