Package: scGPS Version: 1.20.0 Command: /home/biocbuild/bbs-3.20-bioc/R/bin/R CMD build --keep-empty-dirs --no-resave-data --md5 scGPS StartedAt: 2025-02-03 19:11:08 -0500 (Mon, 03 Feb 2025) EndedAt: 2025-02-03 19:16:17 -0500 (Mon, 03 Feb 2025) EllapsedTime: 309.3 seconds RetCode: 0 Status: OK PackageFile: scGPS_1.20.0.tar.gz PackageFileSize: 2.02 MiB