Package: scGPS Version: 1.20.0 Command: /home/biocbuild/bbs-3.20-bioc/R/bin/R CMD INSTALL scGPS StartedAt: 2025-02-03 15:58:00 -0500 (Mon, 03 Feb 2025) EndedAt: 2025-02-03 15:59:01 -0500 (Mon, 03 Feb 2025) EllapsedTime: 60.6 seconds RetCode: 0 Status: OK