Package: scGPS Version: 1.20.0 Command: /home/biocbuild/R/R/bin/R CMD INSTALL scGPS StartedAt: 2025-02-03 21:12:51 -0000 (Mon, 03 Feb 2025) EndedAt: 2025-02-03 21:14:05 -0000 (Mon, 03 Feb 2025) EllapsedTime: 73.8 seconds RetCode: 0 Status: OK