Package: scMET Version: 1.8.0 Command: /home/biocbuild/R/R/bin/R CMD check --install=check:scMET.install-out.txt --library=/home/biocbuild/R/R/site-library --no-vignettes --timings scMET_1.8.0.tar.gz StartedAt: 2024-11-20 12:11:25 -0000 (Wed, 20 Nov 2024) EndedAt: 2024-11-20 12:16:03 -0000 (Wed, 20 Nov 2024) EllapsedTime: 278.4 seconds RetCode: 0 Status: WARNINGS CheckDir: scMET.Rcheck Warnings: 1