Package: scMET Version: 1.8.0 Command: /Library/Frameworks/R.framework/Resources/bin/R CMD check --install=check:scMET.install-out.txt --library=/Library/Frameworks/R.framework/Resources/library --no-vignettes --timings scMET_1.8.0.tar.gz StartedAt: 2025-02-04 09:45:08 -0500 (Tue, 04 Feb 2025) EndedAt: 2025-02-04 09:51:02 -0500 (Tue, 04 Feb 2025) EllapsedTime: 354.4 seconds RetCode: 0 Status: OK CheckDir: scMET.Rcheck Warnings: 0