Package: scMerge Version: 1.22.0 Command: /Library/Frameworks/R.framework/Resources/bin/R CMD build --keep-empty-dirs --no-resave-data scMerge StartedAt: 2025-02-04 07:35:29 -0500 (Tue, 04 Feb 2025) EndedAt: 2025-02-04 07:38:09 -0500 (Tue, 04 Feb 2025) EllapsedTime: 159.5 seconds RetCode: 0 Status: OK PackageFile: scMerge_1.22.0.tar.gz PackageFileSize: 3.441 MiB