Package: scMerge Version: 1.22.0 Command: /Library/Frameworks/R.framework/Resources/bin/R CMD check --install=check:scMerge.install-out.txt --library=/Library/Frameworks/R.framework/Resources/library --no-vignettes --timings scMerge_1.22.0.tar.gz StartedAt: 2025-02-05 09:16:15 -0500 (Wed, 05 Feb 2025) EndedAt: 2025-02-05 09:25:19 -0500 (Wed, 05 Feb 2025) EllapsedTime: 543.9 seconds RetCode: 0 Status: OK CheckDir: scMerge.Rcheck Warnings: 0