Package: scMerge Version: 1.22.0 Command: /Library/Frameworks/R.framework/Resources/bin/R CMD INSTALL scMerge StartedAt: 2025-02-03 17:51:47 -0500 (Mon, 03 Feb 2025) EndedAt: 2025-02-03 17:52:40 -0500 (Mon, 03 Feb 2025) EllapsedTime: 52.6 seconds RetCode: 0 Status: OK