Package: scMerge Version: 1.22.0 Command: /home/biocbuild/R/R/bin/R CMD build --keep-empty-dirs --no-resave-data scMerge StartedAt: 2025-02-04 02:43:47 -0000 (Tue, 04 Feb 2025) EndedAt: 2025-02-04 02:47:02 -0000 (Tue, 04 Feb 2025) EllapsedTime: 195.3 seconds RetCode: 0 Status: OK PackageFile: scMerge_1.22.0.tar.gz PackageFileSize: 2.722 MiB