Package: scMitoMut Version: 1.2.0 Command: /Library/Frameworks/R.framework/Resources/bin/R CMD build --keep-empty-dirs --no-resave-data scMitoMut StartedAt: 2025-02-04 07:37:05 -0500 (Tue, 04 Feb 2025) EndedAt: 2025-02-04 07:37:48 -0500 (Tue, 04 Feb 2025) EllapsedTime: 43.2 seconds RetCode: 0 Status: OK PackageFile: scMitoMut_1.2.0.tar.gz PackageFileSize: 1.274 MiB