Package: scMitoMut Version: 1.2.0 Command: rm -rf scMitoMut.buildbin-libdir && mkdir scMitoMut.buildbin-libdir && /Users/biocbuild/BBS/utils/build-universal.sh scMitoMut_1.2.0.tar.gz /Library/Frameworks/R.framework/Resources/bin/R scMitoMut.buildbin-libdir StartedAt: 2024-11-20 04:50:01 -0500 (Wed, 20 Nov 2024) EndedAt: 2024-11-20 04:50:34 -0500 (Wed, 20 Nov 2024) EllapsedTime: 33.2 seconds RetCode: 0 Status: OK PackageFile: scMitoMut_1.2.0.tgz PackageFileSize: 1.303 MiB