Package: scMitoMut Version: 1.2.0 Command: /Library/Frameworks/R.framework/Resources/bin/R CMD check --install=check:scMitoMut.install-out.txt --library=/Library/Frameworks/R.framework/Resources/library --no-vignettes --timings scMitoMut_1.2.0.tar.gz StartedAt: 2025-02-04 09:45:19 -0500 (Tue, 04 Feb 2025) EndedAt: 2025-02-04 09:48:06 -0500 (Tue, 04 Feb 2025) EllapsedTime: 167.7 seconds RetCode: 0 Status: OK CheckDir: scMitoMut.Rcheck Warnings: 0