Package: scMitoMut Version: 1.2.0 Command: /home/biocbuild/bbs-3.20-bioc/R/bin/R CMD build --keep-empty-dirs --no-resave-data --md5 scMitoMut StartedAt: 2025-02-03 19:12:44 -0500 (Mon, 03 Feb 2025) EndedAt: 2025-02-03 19:13:20 -0500 (Mon, 03 Feb 2025) EllapsedTime: 36.1 seconds RetCode: 0 Status: OK PackageFile: scMitoMut_1.2.0.tar.gz PackageFileSize: 1.325 MiB