Package: scMitoMut Version: 1.2.0 Command: rm -rf scMitoMut.buildbin-libdir && mkdir scMitoMut.buildbin-libdir && F:\biocbuild\bbs-3.20-bioc\R\bin\R.exe CMD INSTALL --build --library=scMitoMut.buildbin-libdir scMitoMut_1.2.0.tar.gz StartedAt: 2025-02-11 09:25:58 -0500 (Tue, 11 Feb 2025) EndedAt: 2025-02-11 09:26:38 -0500 (Tue, 11 Feb 2025) EllapsedTime: 39.2 seconds RetCode: 0 Status: OK PackageFile: scMitoMut_1.2.0.zip PackageFileSize: 1.382 MiB