Package: scMitoMut Version: 1.2.0 Command: /home/biocbuild/R/R/bin/R CMD build --keep-empty-dirs --no-resave-data scMitoMut StartedAt: 2025-02-04 02:45:10 -0000 (Tue, 04 Feb 2025) EndedAt: 2025-02-04 02:46:24 -0000 (Tue, 04 Feb 2025) EllapsedTime: 74.1 seconds RetCode: 0 Status: OK PackageFile: scMitoMut_1.2.0.tar.gz PackageFileSize: 1.142 MiB