Package: scMitoMut Version: 1.2.0 Command: /home/biocbuild/R/R/bin/R CMD check --install=check:scMitoMut.install-out.txt --library=/home/biocbuild/R/R/site-library --no-vignettes --timings scMitoMut_1.2.0.tar.gz StartedAt: 2025-02-04 10:51:28 -0000 (Tue, 04 Feb 2025) EndedAt: 2025-02-04 10:52:41 -0000 (Tue, 04 Feb 2025) EllapsedTime: 73.1 seconds RetCode: 0 Status: OK CheckDir: scMitoMut.Rcheck Warnings: 0