Package: scMitoMut Version: 1.2.0 Command: /home/biocbuild/R/R/bin/R CMD INSTALL scMitoMut StartedAt: 2025-02-03 20:29:05 -0000 (Mon, 03 Feb 2025) EndedAt: 2025-02-03 20:29:34 -0000 (Mon, 03 Feb 2025) EllapsedTime: 29.6 seconds RetCode: 0 Status: OK