Package: scMultiSim Version: 1.2.0 Command: /Library/Frameworks/R.framework/Resources/bin/R CMD INSTALL scMultiSim StartedAt: 2025-02-03 16:16:58 -0500 (Mon, 03 Feb 2025) EndedAt: 2025-02-03 16:17:31 -0500 (Mon, 03 Feb 2025) EllapsedTime: 33.0 seconds RetCode: 0 Status: OK