Package: scMultiSim
Version: 1.2.0
Command: /Library/Frameworks/R.framework/Resources/bin/R CMD INSTALL scMultiSim
StartedAt: 2025-02-17 15:43:54 -0500 (Mon, 17 Feb 2025)
EndedAt: 2025-02-17 15:44:53 -0500 (Mon, 17 Feb 2025)
EllapsedTime: 58.9 seconds
RetCode: 0
Status: OK