Package: scMultiSim Version: 1.2.0 Command: /home/biocbuild/R/R/bin/R CMD build --keep-empty-dirs --no-resave-data scMultiSim StartedAt: 2025-02-04 02:45:15 -0000 (Tue, 04 Feb 2025) EndedAt: 2025-02-04 02:58:30 -0000 (Tue, 04 Feb 2025) EllapsedTime: 795.1 seconds RetCode: 0 Status: OK PackageFile: scMultiSim_1.2.0.tar.gz PackageFileSize: 4.314 MiB