Package: scPipe Version: 2.6.0 Command: /Library/Frameworks/R.framework/Resources/bin/R CMD INSTALL scPipe StartedAt: 2025-02-03 17:00:34 -0500 (Mon, 03 Feb 2025) EndedAt: 2025-02-03 17:02:53 -0500 (Mon, 03 Feb 2025) EllapsedTime: 138.9 seconds RetCode: 0 Status: OK