Package: scPipe Version: 2.6.0 Command: /home/biocbuild/bbs-3.20-bioc/R/bin/R CMD INSTALL scPipe StartedAt: 2025-02-03 15:48:10 -0500 (Mon, 03 Feb 2025) EndedAt: 2025-02-03 15:50:32 -0500 (Mon, 03 Feb 2025) EllapsedTime: 141.3 seconds RetCode: 0 Status: OK