Package: scPipe Version: 2.6.0 Command: rm -rf scPipe.buildbin-libdir && mkdir scPipe.buildbin-libdir && F:\biocbuild\bbs-3.20-bioc\R\bin\R.exe CMD INSTALL --build --library=scPipe.buildbin-libdir scPipe_2.6.0.tar.gz StartedAt: 2025-02-04 09:28:25 -0500 (Tue, 04 Feb 2025) EndedAt: 2025-02-04 09:32:22 -0500 (Tue, 04 Feb 2025) EllapsedTime: 237.0 seconds RetCode: 0 Status: OK PackageFile: scPipe_2.6.0.zip PackageFileSize: 17.97 MiB