Package: scPipe Version: 2.6.0 Command: F:\biocbuild\bbs-3.20-bioc\R\bin\R.exe CMD check --no-multiarch --install=check:scPipe.install-out.txt --library=F:\biocbuild\bbs-3.20-bioc\R\library --no-vignettes --timings scPipe_2.6.0.tar.gz StartedAt: 2025-02-04 06:04:54 -0500 (Tue, 04 Feb 2025) EndedAt: 2025-02-04 06:13:58 -0500 (Tue, 04 Feb 2025) EllapsedTime: 544.0 seconds RetCode: 0 Status: OK CheckDir: scPipe.Rcheck Warnings: 0