Package: scPipe Version: 2.6.0 Command: F:\biocbuild\bbs-3.20-bioc\R\bin\R.exe CMD INSTALL scPipe StartedAt: 2025-02-03 17:08:10 -0500 (Mon, 03 Feb 2025) EndedAt: 2025-02-03 17:11:32 -0500 (Mon, 03 Feb 2025) EllapsedTime: 202.0 seconds RetCode: 0 Status: OK