Package: scPipe Version: 2.6.0 Command: /home/biocbuild/R/R/bin/R CMD build --keep-empty-dirs --no-resave-data scPipe StartedAt: 2025-02-04 02:46:58 -0000 (Tue, 04 Feb 2025) EndedAt: 2025-02-04 02:53:28 -0000 (Tue, 04 Feb 2025) EllapsedTime: 390.4 seconds RetCode: 0 Status: OK PackageFile: scPipe_2.6.0.tar.gz PackageFileSize: 12.54 MiB