Package: scRecover Version: 1.22.0 Command: /home/biocbuild/bbs-3.20-bioc/R/bin/R CMD build --keep-empty-dirs --no-resave-data --md5 scRecover StartedAt: 2025-02-17 19:00:01 -0500 (Mon, 17 Feb 2025) EndedAt: 2025-02-17 19:01:39 -0500 (Mon, 17 Feb 2025) EllapsedTime: 98.1 seconds RetCode: 0 Status: OK PackageFile: scRecover_1.22.0.tar.gz PackageFileSize: 1.714 <A href="http://en.wikipedia.org/wiki/MiB" target="_blank">MiB</A>