Package: scRecover Version: 1.22.0 Command: /home/biocbuild/bbs-3.20-bioc/R/bin/R CMD INSTALL scRecover StartedAt: 2025-02-03 15:59:38 -0500 (Mon, 03 Feb 2025) EndedAt: 2025-02-03 15:59:48 -0500 (Mon, 03 Feb 2025) EllapsedTime: 10.4 seconds RetCode: 0 Status: OK