Package: scRecover Version: 1.22.0 Command: rm -rf scRecover.buildbin-libdir && mkdir scRecover.buildbin-libdir && F:\biocbuild\bbs-3.20-bioc\R\bin\R.exe CMD INSTALL --build --library=scRecover.buildbin-libdir scRecover_1.22.0.tar.gz StartedAt: 2025-02-04 09:28:44 -0500 (Tue, 04 Feb 2025) EndedAt: 2025-02-04 09:29:03 -0500 (Tue, 04 Feb 2025) EllapsedTime: 18.6 seconds RetCode: 0 Status: OK PackageFile: scRecover_1.22.0.zip PackageFileSize: 1.17 MiB