Package: scRecover Version: 1.22.0 Command: chmod a+r scRecover -R && F:\biocbuild\bbs-3.20-bioc\R\bin\R.exe CMD build --keep-empty-dirs --no-resave-data scRecover StartedAt: 2025-02-03 22:00:19 -0500 (Mon, 03 Feb 2025) EndedAt: 2025-02-03 22:02:38 -0500 (Mon, 03 Feb 2025) EllapsedTime: 139.6 seconds RetCode: 0 Status: OK PackageFile: scRecover_1.22.0.tar.gz PackageFileSize: 1.712 MiB