Package: scRecover Version: 1.22.0 Command: F:\biocbuild\bbs-3.20-bioc\R\bin\R.exe CMD check --no-multiarch --install=check:scRecover.install-out.txt --library=F:\biocbuild\bbs-3.20-bioc\R\library --no-vignettes --timings scRecover_1.22.0.tar.gz StartedAt: 2025-02-04 06:05:40 -0500 (Tue, 04 Feb 2025) EndedAt: 2025-02-04 06:07:47 -0500 (Tue, 04 Feb 2025) EllapsedTime: 127.5 seconds RetCode: 0 Status: OK CheckDir: scRecover.Rcheck Warnings: 0