Package: scShapes Version: 1.12.0 Command: rm -rf scShapes.buildbin-libdir && mkdir scShapes.buildbin-libdir && /Users/biocbuild/BBS/utils/build-universal.sh scShapes_1.12.0.tar.gz /Library/Frameworks/R.framework/Resources/bin/R scShapes.buildbin-libdir StartedAt: 2025-02-05 17:45:14 -0500 (Wed, 05 Feb 2025) EndedAt: 2025-02-05 17:45:24 -0500 (Wed, 05 Feb 2025) EllapsedTime: 10.2 seconds RetCode: 0 Status: OK PackageFile: scShapes_1.12.0.tgz PackageFileSize: 71.48 KiB